BEGIN:VCALENDAR
VERSION:2.0
PRODID:-//Library Market//iCal Export//EN
BEGIN:VEVENT
SUMMARY:Story Sprouts
UID:23678
DTSTAMP:20260421T165900Z
DTSTART:20260725T140000Z
DTEND:20260725T143000Z
LOCATION:SEI Community Gardens, 19 E. William St., Lawrenceburg, IN 47025,
  United States
ROOM: Story Sprouts
DESCRIPTION:Join us for a morning story time at the SEI Community Gardens,
  no registration required.
URL:https://lawrenceburg.librarycalendar.com/index.php/event/story-sprouts
 -23678
END:VEVENT
END:VCALENDAR
