BEGIN:VCALENDAR
VERSION:2.0
PRODID:-//Library Market//iCal Export//EN
BEGIN:VEVENT
SUMMARY:Board Together
UID:23174
DTSTAMP:20260421T081100Z
DTSTART:20260617T213000Z
DTEND:20260617T230000Z
LOCATION:North Dearborn Branch (NDB), 25969 Dole Rd, West Harrison, IN 470
 60, United States
ROOM: Dunevant Meeting Room (Full Room)
DESCRIPTION:Come play some tabletop/card games at the library! There will 
 be an assortment of games to choose from. Discover a new favorite or sharp
 en your skills on an already familiar game while engaging with other game 
 enthusiast! 
URL:https://lawrenceburg.librarycalendar.com/index.php/event/board-togethe
 r-23174
END:VEVENT
END:VCALENDAR
