BEGIN:VCALENDAR
VERSION:2.0
PRODID:-//Library Market//iCal Export//EN
BEGIN:VEVENT
SUMMARY:Summer Explorers Story Time
UID:23103
DTSTAMP:20260420T073100Z
DTSTART:20260709T143000Z
DTEND:20260709T151500Z
LOCATION:North Dearborn Branch (NDB), 25969 Dole Rd, West Harrison, IN 470
 60, United States
ROOM: Dunevant Meeting Room (Full Room)
DESCRIPTION:Come to the library to enjoy story time! Participants will hea
 r 2-3 books, sing songs, and do a fun craft. Parent or guardian must remai
 n present. Registration requested but not required. 
URL:https://lawrenceburg.librarycalendar.com/index.php/event/summer-explor
 ers-story-time-23103
END:VEVENT
END:VCALENDAR
