BEGIN:VCALENDAR
VERSION:2.0
PRODID:-//Library Market//iCal Export//EN
BEGIN:VEVENT
SUMMARY:Terrific Tuesday: Honey Hill Farm
UID:15840
DTSTAMP:20260420T220000Z
DTSTART:20260714T220000Z
DTEND:20260714T230000Z
LOCATION:North Dearborn Branch (NDB), 25969 Dole Rd, West Harrison, IN 470
 60, United States
ROOM: Dunevant Meeting Room (Full Room)
DESCRIPTION:Get ready for some furry fun! The Honey Hill Farm Mobile Petti
 ng Zoo is coming to the library! Cuddle with chickens, quack with ducks, a
 nd meet a whole barnyard of adorable animals, including a sheep, an alpaca
 , goats, and even a miniature horse or donkey. There will be opportunities
  to feed some of our feathered and fluffy friends. Don&#039;t miss this ho
 otin&#039; and hollerin&#039; good time!&quot;  
URL:https://lawrenceburg.librarycalendar.com/index.php/event/terrific-tues
 day-15840
END:VEVENT
END:VCALENDAR
