BEGIN:VCALENDAR
VERSION:2.0
PRODID:-//Library Market//iCal Export//EN
BEGIN:VEVENT
SUMMARY:Terrific Tuesday: Cool Critters: Not Your Average Petting Zoo!
UID:15839
DTSTAMP:20260419T172700Z
DTSTART:20260707T220000Z
DTEND:20260707T230000Z
LOCATION:North Dearborn Branch (NDB), 25969 Dole Rd, West Harrison, IN 470
 60, United States
ROOM: Dunevant Meeting Room (Full Room)
DESCRIPTION:Join Cool Critters Outreach for a fun and educational take on 
 a petting zoo featuring reptiles, amphibians, invertebrates, and more! 
URL:https://lawrenceburg.librarycalendar.com/index.php/event/terrific-tues
 day-15839
END:VEVENT
END:VCALENDAR
