BEGIN:VCALENDAR
VERSION:2.0
PRODID:-//Library Market//iCal Export//EN
BEGIN:VEVENT
SUMMARY:Terrific Tuesday: Interactive Movie: Night at the Museum
UID:15838
DTSTAMP:20260419T172700Z
DTSTART:20260630T220000Z
DTEND:20260630T230000Z
LOCATION:North Dearborn Branch (NDB), 25969 Dole Rd, West Harrison, IN 470
 60, United States
ROOM: Dunevant Meeting Room (Full Room)
DESCRIPTION:Join us for an interactive movie with Night at the Museum!
URL:https://lawrenceburg.librarycalendar.com/index.php/event/terrific-tues
 day-15838
END:VEVENT
END:VCALENDAR
