BEGIN:VCALENDAR
VERSION:2.0
PRODID:-//Library Market//iCal Export//EN
BEGIN:VEVENT
SUMMARY:Terrific Tuesday: Unearth a Folk Tale, Dig Up a Song!
UID:15837
DTSTAMP:20260420T115800Z
DTSTART:20260623T220000Z
DTEND:20260623T230000Z
LOCATION:North Dearborn Branch (NDB), 25969 Dole Rd, West Harrison, IN 470
 60, United States
ROOM: Dunevant Meeting Room (Full Room)
DESCRIPTION:Join Award-Winning Performer and Storyteller Paul Strickland a
 nd get ready to laugh, sing, and dig into a different type of adventure! T
 his interactive performance features fun folk tales full of surprises and 
 silly songs that bury boredom deep underground!
URL:https://lawrenceburg.librarycalendar.com/index.php/event/terrific-tues
 day-15837
END:VEVENT
END:VCALENDAR
