BEGIN:VCALENDAR
VERSION:2.0
PRODID:-//Library Market//iCal Export//EN
BEGIN:VEVENT
SUMMARY:Terrific Tuesday: DinoBuddies
UID:15835
DTSTAMP:20260420T142600Z
DTSTART:20260609T220000Z
DTEND:20260609T230000Z
LOCATION:North Dearborn Branch (NDB), 25969 Dole Rd, West Harrison, IN 470
 60, United States
ROOM: Dunevant Meeting Room (Full Room)
DESCRIPTION:Get ready for a prehistoric adventure at the library with Dino
 Buddies! 🦖 Meet friendly dinosaur puppets who bring the past to life, t
 hen see amazing live reptiles up close. Learn fascinating facts, ask quest
 ions, and discover what dinosaurs and reptiles have in common. This fun, i
 nteractive program is perfect for curious kids and dino-lovers of all ages
 ! Don’t miss the chance to roar, explore, and make some scaly new friend
 s.
URL:https://lawrenceburg.librarycalendar.com/index.php/event/terrific-tues
 day-15835
END:VEVENT
END:VCALENDAR
