BEGIN:VCALENDAR
VERSION:2.0
PRODID:-//Library Market//iCal Export//EN
BEGIN:VEVENT
SUMMARY:Summer Explorers Story Time
UID:15831
DTSTAMP:20260421T023400Z
DTSTART:20260701T150000Z
DTEND:20260701T154500Z
LOCATION:Lawrenceburg Public Library (LPL), 150 Mary Street, Lawrenceburg,
  IN 47025, United States
ROOM: Eleanor Ewbank Meeting Room
DESCRIPTION:Children will hear songs and stories on a variety of themes wh
 ile developing early literacy and language skills, and complete a fun craf
 t or activity!  Designed for children ages 3-6, but older and younger chi
 ldren are welcome.  Kindly RSVP with online registration if possible.
URL:https://lawrenceburg.librarycalendar.com/index.php/event/summer-explor
 ers-story-time-15831
END:VEVENT
END:VCALENDAR
